BEGIN:VCALENDAR
VERSION:2.0
PRODID:-//Archway North Phoenix PSO - ECPv6.15.17//NONSGML v1.0//EN
CALSCALE:GREGORIAN
METHOD:PUBLISH
X-WR-CALNAME:Archway North Phoenix PSO
X-ORIGINAL-URL:https://www.anppso.org
X-WR-CALDESC:Events for Archway North Phoenix PSO
REFRESH-INTERVAL;VALUE=DURATION:PT1H
X-Robots-Tag:noindex
X-PUBLISHED-TTL:PT1H
BEGIN:VTIMEZONE
TZID:America/Phoenix
BEGIN:STANDARD
TZOFFSETFROM:-0700
TZOFFSETTO:-0700
TZNAME:MST
DTSTART:20230101T000000
END:STANDARD
END:VTIMEZONE
BEGIN:VEVENT
DTSTART;TZID=America/Phoenix:20240920T120000
DTEND;TZID=America/Phoenix:20240920T190000
DTSTAMP:20260424T092302
CREATED:20240830T023647Z
LAST-MODIFIED:20240830T023647Z
UID:3308-1726833600-1726858800@www.anppso.org
SUMMARY:Rita's Dine Out
DESCRIPTION:Get ready to cool off with some frosty fun! Our first meetup of the year is happening at Rita’s Shaved Ice right after the ANP noon dismissal! 🎉 Bring your friends\, bring your family\, and let’s enjoy some delicious shaved ice together! 😋 \nDon’t forget to mention you’re from ANP—a portion of the sales will go back to our PSO to support our school! 🙌 \nLet’s make it a sweet start to the school year! See you there!
URL:https://www.anppso.org/event/ritas-dine-out/
LOCATION:Rita’s Shaved Ice\, 4727 E Bell Rd\, Phoenix\, 85032\, United States
END:VEVENT
END:VCALENDAR