BEGIN:VCALENDAR
VERSION:2.0
PRODID:-//Archway North Phoenix PSO - ECPv6.15.17//NONSGML v1.0//EN
CALSCALE:GREGORIAN
METHOD:PUBLISH
X-ORIGINAL-URL:https://www.anppso.org
X-WR-CALDESC:Events for Archway North Phoenix PSO
REFRESH-INTERVAL;VALUE=DURATION:PT1H
X-Robots-Tag:noindex
X-PUBLISHED-TTL:PT1H
BEGIN:VTIMEZONE
TZID:America/Phoenix
BEGIN:STANDARD
TZOFFSETFROM:-0700
TZOFFSETTO:-0700
TZNAME:MST
DTSTART:20230101T000000
END:STANDARD
END:VTIMEZONE
BEGIN:VEVENT
DTSTART;TZID=America/Phoenix:20241109T180000
DTEND;TZID=America/Phoenix:20241109T210000
DTSTAMP:20260424T054116
CREATED:20240822T002717Z
LAST-MODIFIED:20240822T002717Z
UID:3239-1731175200-1731186000@www.anppso.org
SUMMARY:Movie Night
DESCRIPTION:
URL:https://www.anppso.org/event/movie-night/
END:VEVENT
END:VCALENDAR