BEGIN:VCALENDAR
VERSION:2.0
PRODID:-//Archway North Phoenix PSO - ECPv6.15.17//NONSGML v1.0//EN
CALSCALE:GREGORIAN
METHOD:PUBLISH
X-WR-CALNAME:Archway North Phoenix PSO
X-ORIGINAL-URL:https://www.anppso.org
X-WR-CALDESC:Events for Archway North Phoenix PSO
REFRESH-INTERVAL;VALUE=DURATION:PT1H
X-Robots-Tag:noindex
X-PUBLISHED-TTL:PT1H
BEGIN:VTIMEZONE
TZID:America/Phoenix
BEGIN:STANDARD
TZOFFSETFROM:-0700
TZOFFSETTO:-0700
TZNAME:MST
DTSTART:20240101T000000
END:STANDARD
END:VTIMEZONE
BEGIN:VEVENT
DTSTART;TZID=America/Phoenix:20250716T110000
DTEND;TZID=America/Phoenix:20250716T140000
DTSTAMP:20260419T163033
CREATED:20250618T143841Z
LAST-MODIFIED:20250618T143841Z
UID:3510-1752663600-1752674400@www.anppso.org
SUMMARY:Treats and Plays Wednesdays K-2
DESCRIPTION:
URL:https://www.anppso.org/event/treats-and-plays-wednesdays-k-2-6/
LOCATION:McDonald’s\, 4830 E Bell Rd\, Scottsdale\, AZ\, 85254\, United States
END:VEVENT
BEGIN:VEVENT
DTSTART;TZID=America/Phoenix:20250716T150000
DTEND;TZID=America/Phoenix:20250716T180000
DTSTAMP:20260419T163033
CREATED:20250618T144133Z
LAST-MODIFIED:20250618T144133Z
UID:3522-1752678000-1752688800@www.anppso.org
SUMMARY:Treats and Plays Wednesdays 3-5
DESCRIPTION:
URL:https://www.anppso.org/event/treats-and-plays-wednesdays-3-5-6/
LOCATION:McDonald’s\, 4830 E Bell Rd\, Scottsdale\, AZ\, 85254\, United States
END:VEVENT
BEGIN:VEVENT
DTSTART;TZID=America/Phoenix:20250716T150000
DTEND;TZID=America/Phoenix:20250716T180000
DTSTAMP:20260419T163033
CREATED:20250618T144156Z
LAST-MODIFIED:20250618T144156Z
UID:3524-1752678000-1752688800@www.anppso.org
SUMMARY:Treats and Plays Wednesdays 3-5
DESCRIPTION:
URL:https://www.anppso.org/event/treats-and-plays-wednesdays-3-5-7/
LOCATION:McDonald’s\, 4830 E Bell Rd\, Scottsdale\, AZ\, 85254\, United States
END:VEVENT
END:VCALENDAR