BEGIN:VCALENDAR
VERSION:2.0
PRODID:-//Archway North Phoenix PSO - ECPv6.15.17//NONSGML v1.0//EN
CALSCALE:GREGORIAN
METHOD:PUBLISH
X-WR-CALNAME:Archway North Phoenix PSO
X-ORIGINAL-URL:https://www.anppso.org
X-WR-CALDESC:Events for Archway North Phoenix PSO
REFRESH-INTERVAL;VALUE=DURATION:PT1H
X-Robots-Tag:noindex
X-PUBLISHED-TTL:PT1H
BEGIN:VTIMEZONE
TZID:America/Phoenix
BEGIN:STANDARD
TZOFFSETFROM:-0700
TZOFFSETTO:-0700
TZNAME:MST
DTSTART:20230101T000000
END:STANDARD
END:VTIMEZONE
BEGIN:VEVENT
DTSTART;TZID=America/Phoenix:20240829T163000
DTEND;TZID=America/Phoenix:20240829T174500
DTSTAMP:20260424T091750
CREATED:20240824T143134Z
LAST-MODIFIED:20240824T143356Z
UID:3262-1724949000-1724953500@www.anppso.org
SUMMARY:Back to School Night Session 1
DESCRIPTION:
URL:https://www.anppso.org/event/back-to-school-night-session-1/
LOCATION:Archway North Phoenix\, 13613 North Cave Creek Road\, Phoenix\, 85020
END:VEVENT
BEGIN:VEVENT
DTSTART;TZID=America/Phoenix:20240829T174500
DTEND;TZID=America/Phoenix:20240829T190000
DTSTAMP:20260424T091750
CREATED:20240824T143207Z
LAST-MODIFIED:20240824T143207Z
UID:3264-1724953500-1724958000@www.anppso.org
SUMMARY:Back to School Night Session 2
DESCRIPTION:
URL:https://www.anppso.org/event/back-to-school-night-session-2/
LOCATION:Archway North Phoenix\, 13613 North Cave Creek Road\, Phoenix\, 85020
END:VEVENT
BEGIN:VEVENT
DTSTART;VALUE=DATE:20240830
DTEND;VALUE=DATE:20240831
DTSTAMP:20260424T091750
CREATED:20240822T002814Z
LAST-MODIFIED:20240822T002814Z
UID:3241-1724976000-1725062399@www.anppso.org
SUMMARY:Spirit Day
DESCRIPTION:
URL:https://www.anppso.org/event/spirit-day/
END:VEVENT
END:VCALENDAR