BEGIN:VCALENDAR
VERSION:2.0
PRODID:-//Archway North Phoenix PSO - ECPv6.15.17//NONSGML v1.0//EN
CALSCALE:GREGORIAN
METHOD:PUBLISH
X-ORIGINAL-URL:https://www.anppso.org
X-WR-CALDESC:Events for Archway North Phoenix PSO
REFRESH-INTERVAL;VALUE=DURATION:PT1H
X-Robots-Tag:noindex
X-PUBLISHED-TTL:PT1H
BEGIN:VTIMEZONE
TZID:America/Phoenix
BEGIN:STANDARD
TZOFFSETFROM:-0700
TZOFFSETTO:-0700
TZNAME:MST
DTSTART:20240101T000000
END:STANDARD
END:VTIMEZONE
BEGIN:VEVENT
DTSTART;TZID=America/Phoenix:20250320T183000
DTEND;TZID=America/Phoenix:20250320T200000
DTSTAMP:20260419T212548
CREATED:20240831T140822Z
LAST-MODIFIED:20240831T140822Z
UID:3333-1742495400-1742500800@www.anppso.org
SUMMARY:PSO Quarterly Meeting
DESCRIPTION:
URL:https://www.anppso.org/event/pso-quarterly-meeting-3/
END:VEVENT
END:VCALENDAR