BEGIN:VCALENDAR
VERSION:2.0
PRODID:-//Archway North Phoenix PSO - ECPv6.15.17//NONSGML v1.0//EN
CALSCALE:GREGORIAN
METHOD:PUBLISH
X-WR-CALNAME:Archway North Phoenix PSO
X-ORIGINAL-URL:https://www.anppso.org
X-WR-CALDESC:Events for Archway North Phoenix PSO
REFRESH-INTERVAL;VALUE=DURATION:PT1H
X-Robots-Tag:noindex
X-PUBLISHED-TTL:PT1H
BEGIN:VTIMEZONE
TZID:America/Phoenix
BEGIN:STANDARD
TZOFFSETFROM:-0700
TZOFFSETTO:-0700
TZNAME:MST
DTSTART:20240101T000000
END:STANDARD
END:VTIMEZONE
BEGIN:VEVENT
DTSTART;TZID=America/Phoenix:20250702T110000
DTEND;TZID=America/Phoenix:20250702T140000
DTSTAMP:20260419T150934
CREATED:20250618T143546Z
LAST-MODIFIED:20250618T143733Z
UID:3504-1751454000-1751464800@www.anppso.org
SUMMARY:Treats and Plays Wednesdays K-2
DESCRIPTION:
URL:https://www.anppso.org/event/treats-and-plays-wednesdays-k-2-3/
LOCATION:McDonald’s\, 4830 E Bell Rd\, Scottsdale\, AZ\, 85254\, United States
END:VEVENT
BEGIN:VEVENT
DTSTART;TZID=America/Phoenix:20250702T150000
DTEND;TZID=America/Phoenix:20250702T180000
DTSTAMP:20260419T150934
CREATED:20250618T144009Z
LAST-MODIFIED:20250618T144009Z
UID:3516-1751468400-1751479200@www.anppso.org
SUMMARY:Treats and Plays Wednesdays 3-5
DESCRIPTION:
URL:https://www.anppso.org/event/treats-and-plays-wednesdays-3-5-3/
LOCATION:McDonald’s\, 4830 E Bell Rd\, Scottsdale\, AZ\, 85254\, United States
END:VEVENT
BEGIN:VEVENT
DTSTART;TZID=America/Phoenix:20250702T150000
DTEND;TZID=America/Phoenix:20250702T180000
DTSTAMP:20260419T150934
CREATED:20250618T144050Z
LAST-MODIFIED:20250618T144050Z
UID:3518-1751468400-1751479200@www.anppso.org
SUMMARY:Treats and Plays Wednesdays 3-5
DESCRIPTION:
URL:https://www.anppso.org/event/treats-and-plays-wednesdays-3-5-4/
LOCATION:McDonald’s\, 4830 E Bell Rd\, Scottsdale\, AZ\, 85254\, United States
END:VEVENT
BEGIN:VEVENT
DTSTART;TZID=America/Phoenix:20250709T110000
DTEND;TZID=America/Phoenix:20250709T140000
DTSTAMP:20260419T150934
CREATED:20250618T143807Z
LAST-MODIFIED:20250618T143807Z
UID:3508-1752058800-1752069600@www.anppso.org
SUMMARY:Treats and Plays Wednesdays K-2
DESCRIPTION:
URL:https://www.anppso.org/event/treats-and-plays-wednesdays-k-2-5/
LOCATION:McDonald’s\, 4830 E Bell Rd\, Scottsdale\, AZ\, 85254\, United States
END:VEVENT
BEGIN:VEVENT
DTSTART;TZID=America/Phoenix:20250709T150000
DTEND;TZID=America/Phoenix:20250709T180000
DTSTAMP:20260419T150934
CREATED:20250618T144112Z
LAST-MODIFIED:20250618T144112Z
UID:3520-1752073200-1752084000@www.anppso.org
SUMMARY:Treats and Plays Wednesdays 3-5
DESCRIPTION:
URL:https://www.anppso.org/event/treats-and-plays-wednesdays-3-5-5/
LOCATION:McDonald’s\, 4830 E Bell Rd\, Scottsdale\, AZ\, 85254\, United States
END:VEVENT
BEGIN:VEVENT
DTSTART;TZID=America/Phoenix:20250716T110000
DTEND;TZID=America/Phoenix:20250716T140000
DTSTAMP:20260419T150934
CREATED:20250618T143841Z
LAST-MODIFIED:20250618T143841Z
UID:3510-1752663600-1752674400@www.anppso.org
SUMMARY:Treats and Plays Wednesdays K-2
DESCRIPTION:
URL:https://www.anppso.org/event/treats-and-plays-wednesdays-k-2-6/
LOCATION:McDonald’s\, 4830 E Bell Rd\, Scottsdale\, AZ\, 85254\, United States
END:VEVENT
BEGIN:VEVENT
DTSTART;TZID=America/Phoenix:20250716T150000
DTEND;TZID=America/Phoenix:20250716T180000
DTSTAMP:20260419T150934
CREATED:20250618T144133Z
LAST-MODIFIED:20250618T144133Z
UID:3522-1752678000-1752688800@www.anppso.org
SUMMARY:Treats and Plays Wednesdays 3-5
DESCRIPTION:
URL:https://www.anppso.org/event/treats-and-plays-wednesdays-3-5-6/
LOCATION:McDonald’s\, 4830 E Bell Rd\, Scottsdale\, AZ\, 85254\, United States
END:VEVENT
BEGIN:VEVENT
DTSTART;TZID=America/Phoenix:20250716T150000
DTEND;TZID=America/Phoenix:20250716T180000
DTSTAMP:20260419T150934
CREATED:20250618T144156Z
LAST-MODIFIED:20250618T144156Z
UID:3524-1752678000-1752688800@www.anppso.org
SUMMARY:Treats and Plays Wednesdays 3-5
DESCRIPTION:
URL:https://www.anppso.org/event/treats-and-plays-wednesdays-3-5-7/
LOCATION:McDonald’s\, 4830 E Bell Rd\, Scottsdale\, AZ\, 85254\, United States
END:VEVENT
BEGIN:VEVENT
DTSTART;TZID=America/Phoenix:20250723T110000
DTEND;TZID=America/Phoenix:20250723T140000
DTSTAMP:20260419T150934
CREATED:20250618T143902Z
LAST-MODIFIED:20250618T143902Z
UID:3512-1753268400-1753279200@www.anppso.org
SUMMARY:Treats and Plays Wednesdays K-2
DESCRIPTION:
URL:https://www.anppso.org/event/treats-and-plays-wednesdays-k-2-7/
LOCATION:McDonald’s\, 4830 E Bell Rd\, Scottsdale\, AZ\, 85254\, United States
END:VEVENT
BEGIN:VEVENT
DTSTART;TZID=America/Phoenix:20250723T150000
DTEND;TZID=America/Phoenix:20250723T180000
DTSTAMP:20260419T150934
CREATED:20250618T144217Z
LAST-MODIFIED:20250618T144217Z
UID:3526-1753282800-1753293600@www.anppso.org
SUMMARY:Treats and Plays Wednesdays 3-5
DESCRIPTION:
URL:https://www.anppso.org/event/treats-and-plays-wednesdays-3-5-8/
LOCATION:McDonald’s\, 4830 E Bell Rd\, Scottsdale\, AZ\, 85254\, United States
END:VEVENT
END:VCALENDAR